BEGIN:VCALENDAR
VERSION:2.0
PRODID:-//Plaatselijk Belang Tuk - ECPv6.15.20//NONSGML v1.0//EN
CALSCALE:GREGORIAN
METHOD:PUBLISH
X-WR-CALNAME:Plaatselijk Belang Tuk
X-ORIGINAL-URL:https://pb-tuk.onlinebijzonder.nl
X-WR-CALDESC:Evenementen voor Plaatselijk Belang Tuk
REFRESH-INTERVAL;VALUE=DURATION:PT1H
X-Robots-Tag:noindex
X-PUBLISHED-TTL:PT1H
BEGIN:VTIMEZONE
TZID:Europe/Amsterdam
BEGIN:DAYLIGHT
TZOFFSETFROM:+0100
TZOFFSETTO:+0200
TZNAME:CEST
DTSTART:20250330T010000
END:DAYLIGHT
BEGIN:STANDARD
TZOFFSETFROM:+0200
TZOFFSETTO:+0100
TZNAME:CET
DTSTART:20251026T010000
END:STANDARD
BEGIN:DAYLIGHT
TZOFFSETFROM:+0100
TZOFFSETTO:+0200
TZNAME:CEST
DTSTART:20260329T010000
END:DAYLIGHT
BEGIN:STANDARD
TZOFFSETFROM:+0200
TZOFFSETTO:+0100
TZNAME:CET
DTSTART:20261025T010000
END:STANDARD
BEGIN:DAYLIGHT
TZOFFSETFROM:+0100
TZOFFSETTO:+0200
TZNAME:CEST
DTSTART:20270328T010000
END:DAYLIGHT
BEGIN:STANDARD
TZOFFSETFROM:+0200
TZOFFSETTO:+0100
TZNAME:CET
DTSTART:20271031T010000
END:STANDARD
END:VTIMEZONE
BEGIN:VEVENT
DTSTART;TZID=Europe/Amsterdam:20260530T150000
DTEND;TZID=Europe/Amsterdam:20260530T170000
DTSTAMP:20260421T214307
CREATED:20260421T100059Z
LAST-MODIFIED:20260421T144646Z
UID:10302-1780153200-1780160400@pb-tuk.onlinebijzonder.nl
SUMMARY:Kids Bingo groep 3\, 4 of 5
DESCRIPTION:Hilly Haarlak en Saartje Staartje\nweer de leukste BINGO voor kids op Tuk! presenteren op zaterdag 30 mei\nDan ben je welkom\n• Zit jij in groep 3\, 4 or5? groep 6\,7 of 8\nDan ben je van harte welkom in van 19.00 tot 21.00 uur\nDORPSHUIS TUCHEM\nvan 15.00 tot 17.00 uur\n• Er zijn weer TE GERKE PRIJZEN te inhen! We maken er samen GEWELDIG FEESSIE van!!\nHILLY HAARLAK\n& SAARTJE STAARTJE
URL:https://pb-tuk.onlinebijzonder.nl/event/kids-bingo-groep-3-4-of-5/
ATTACH;FMTTYPE=image/jpeg:https://pb-tuk.onlinebijzonder.nl/wp-content/uploads/2026/04/Kids-Bingo-30-5-2026-heading.jpg
END:VEVENT
BEGIN:VEVENT
DTSTART;TZID=Europe/Amsterdam:20260530T190000
DTEND;TZID=Europe/Amsterdam:20260530T210000
DTSTAMP:20260421T214307
CREATED:20260421T144713Z
LAST-MODIFIED:20260421T144746Z
UID:10386-1780167600-1780174800@pb-tuk.onlinebijzonder.nl
SUMMARY:Kids Bingo groep 6\, 7 of 8
DESCRIPTION:Hilly Haarlak en Saartje Staartje\nweer de leukste BINGO voor kids op Tuk! presenteren op zaterdag 30 mei\nDan ben je welkom\n• Zit jij in groep 3\, 4 or5? groep 6\,7 of 8\nDan ben je van harte welkom in van 19.00 tot 21.00 uur\nDORPSHUIS TUCHEM\nvan 15.00 tot 17.00 uur\n• Er zijn weer TE GERKE PRIJZEN te inhen! We maken er samen GEWELDIG FEESSIE van!!\nHILLY HAARLAK\n& SAARTJE STAARTJE
URL:https://pb-tuk.onlinebijzonder.nl/event/kids-bingo-groep-6-7-of-8/
ATTACH;FMTTYPE=image/jpeg:https://pb-tuk.onlinebijzonder.nl/wp-content/uploads/2026/04/Kids-Bingo-30-5-2026-heading.jpg
END:VEVENT
END:VCALENDAR